{ "currentVersion": 10.91, "serviceDescription": "
This free, publically available base layer imagery is a whole of State layer configured as a flattened and seamless single service. It can be used as a background in conjunction with other data services to provide a spatial reference and contains 1:100,000 aerial imagery tiles, regional and town site/Aboriginal Community mosaics that are a minimum of 400 days old.<\/span><\/p><\/div><\/div>",
"name": "SLIP_Public_Services/Locate",
"description": " This free, publically available base layer imagery is a whole of State layer configured as a flattened and seamless single service. It can be used as a background in conjunction with other data services to provide a spatial reference and contains 1:100,000 aerial imagery tiles, regional and town site/Aboriginal Community mosaics that are a minimum of 400 days old.<\/span><\/p><\/div><\/div>",
"extent": {
"xmin": 96.79394282300007,
"ymin": -35.31342720399998,
"xmax": 129.81262262300007,
"ymax": -10.40955960399998,
"spatialReference": {
"wkid": 7844,
"latestWkid": 7844
}
},
"initialExtent": {
"xmin": 96.79394282300007,
"ymin": -35.31342720399998,
"xmax": 129.81262262300007,
"ymax": -10.40955960399998,
"spatialReference": {
"wkid": 7844,
"latestWkid": 7844
}
},
"fullExtent": {
"xmin": 96.79394282300007,
"ymin": -35.31342720399998,
"xmax": 129.81262262300007,
"ymax": -10.40955960399998,
"spatialReference": {
"wkid": 7844,
"latestWkid": 7844
}
},
"hasMultidimensions": false,
"pixelSizeX": 4.5000000000000003E-7,
"pixelSizeY": 4.5E-7,
"datasetFormat": "AMD",
"uncompressedSize": 12182116000977696,
"blockWidth": 2048,
"blockHeight": 256,
"compressionType": "None",
"bandNames": [
"Band_1",
"Band_2",
"Band_3"
],
"allowCopy": true,
"allowAnalysis": true,
"bandCount": 3,
"pixelType": "U8",
"minPixelSize": 0,
"maxPixelSize": 0,
"copyrightText": "",
"serviceDataType": "esriImageServiceDataTypeRGB",
"serviceSourceType": "esriImageServiceSourceTypeMosaicDataset",
"minValues": [
0,
0,
1
],
"maxValues": [
255,
255,
255
],
"meanValues": [
144.48612455678781,
108.66550276190311,
83.8914751219103
],
"stdvValues": [
56.62832735181866,
36.57536943949249,
29.95612241083427
],
"objectIdField": "objectid",
"fields": [
{
"name": "objectid",
"type": "esriFieldTypeOID",
"alias": "objectid",
"domain": null
},
{
"name": "name",
"type": "esriFieldTypeString",
"alias": "name",
"domain": null,
"length": 200
},
{
"name": "minps",
"type": "esriFieldTypeDouble",
"alias": "minps",
"domain": null
},
{
"name": "maxps",
"type": "esriFieldTypeDouble",
"alias": "maxps",
"domain": null
},
{
"name": "lowps",
"type": "esriFieldTypeDouble",
"alias": "lowps",
"domain": null
},
{
"name": "highps",
"type": "esriFieldTypeDouble",
"alias": "highps",
"domain": null
},
{
"name": "category",
"type": "esriFieldTypeInteger",
"alias": "category",
"domain": {
"type": "codedValue",
"name": "MosaicCatalogItemCategoryDomain",
"description": "Catalog item categories.",
"codedValues": [
{
"name": "Unknown",
"code": 0
},
{
"name": "Primary",
"code": 1
},
{
"name": "Overview",
"code": 2
},
{
"name": "Unprocessed Overview",
"code": 3
},
{
"name": "Partial Overview",
"code": 4
},
{
"name": "Uploaded",
"code": 253
},
{
"name": "Incomplete",
"code": 254
},
{
"name": "Custom",
"code": 255
}
],
"mergePolicy": "esriMPTDefaultValue",
"splitPolicy": "esriSPTDefaultValue"
}
},
{
"name": "tag",
"type": "esriFieldTypeString",
"alias": "tag",
"domain": null,
"length": 100
},
{
"name": "groupname",
"type": "esriFieldTypeString",
"alias": "groupname",
"domain": null,
"length": 100
},
{
"name": "productname",
"type": "esriFieldTypeString",
"alias": "productname",
"domain": null,
"length": 100
},
{
"name": "centerx",
"type": "esriFieldTypeDouble",
"alias": "centerx",
"domain": null
},
{
"name": "centery",
"type": "esriFieldTypeDouble",
"alias": "centery",
"domain": null
},
{
"name": "zorder",
"type": "esriFieldTypeInteger",
"alias": "zorder",
"domain": null
},
{
"name": "ground_resolution",
"type": "esriFieldTypeDouble",
"alias": "ground_resolution",
"domain": null
},
{
"name": "capture_start_date",
"type": "esriFieldTypeDate",
"alias": "capture_start_date",
"domain": null,
"length": 8
},
{
"name": "capture_finish_date",
"type": "esriFieldTypeDate",
"alias": "capture_finish_date",
"domain": null,
"length": 8
},
{
"name": "capture_date_text",
"type": "esriFieldTypeString",
"alias": "capture_date_text",
"domain": null,
"length": 255
},
{
"name": "location_text",
"type": "esriFieldTypeString",
"alias": "location_text",
"domain": null,
"length": 255
},
{
"name": "accuracy_in_meters",
"type": "esriFieldTypeDouble",
"alias": "accuracy_in_meters",
"domain": null
},
{
"name": "project_classification",
"type": "esriFieldTypeString",
"alias": "project_classification",
"domain": null,
"length": 255
},
{
"name": "status",
"type": "esriFieldTypeString",
"alias": "status",
"domain": null,
"length": 255
},
{
"name": "namelink",
"type": "esriFieldTypeString",
"alias": "namelink",
"domain": null,
"length": 255
},
{
"name": "shape",
"type": "esriFieldTypeGeometry",
"alias": "shape",
"domain": null
}
],
"capabilities": "Catalog,Image,Metadata",
"defaultMosaicMethod": "Northwest",
"allowedMosaicMethods": "NorthWest,Center,LockRaster,ByAttribute,Nadir,Viewpoint,Seamline,None",
"sortField": "",
"sortValue": null,
"sortAscending": true,
"mosaicOperator": "First",
"maxDownloadSizeLimit": 2048,
"defaultCompressionQuality": 75,
"defaultResamplingMethod": "Bilinear",
"maxImageHeight": 4100,
"maxImageWidth": 15000,
"maxRecordCount": 1000,
"maxDownloadImageCount": 1000,
"maxMosaicImageCount": 1000,
"allowRasterFunction": true,
"rasterFunctionInfos": [
{
"name": "None",
"description": "A No-Op Function.",
"help": ""
}
],
"rasterTypeInfos": [
{
"name": "Raster Dataset",
"description": "Supports all ArcGIS Raster Datasets",
"help": ""
}
],
"mensurationCapabilities": "None",
"hasHistograms": true,
"hasColormap": false,
"hasRasterAttributeTable": false,
"minScale": 0,
"maxScale": 0,
"exportTilesAllowed": false,
"supportsStatistics": true,
"supportsAdvancedQueries": true,
"editFieldsInfo": null,
"ownershipBasedAccessControlForRasters": null,
"allowComputeTiePoints": false,
"useStandardizedQueries": true,
"advancedQueryCapabilities": {
"useStandardizedQueries": true,
"supportsStatistics": true,
"supportsOrderBy": true,
"supportsDistinct": true,
"supportsPagination": true
},
"spatialReference": {
"wkid": 7844,
"latestWkid": 7844
}
}